BEGIN:VCALENDAR
VERSION:2.0
PRODID:-//Extreme Missionary Adventures - ECPv6.15.20//NONSGML v1.0//EN
CALSCALE:GREGORIAN
METHOD:PUBLISH
X-ORIGINAL-URL:https://xmaonline.com
X-WR-CALDESC:Events for Extreme Missionary Adventures
REFRESH-INTERVAL;VALUE=DURATION:PT1H
X-Robots-Tag:noindex
X-PUBLISHED-TTL:PT1H
BEGIN:VTIMEZONE
TZID:UTC
BEGIN:STANDARD
TZOFFSETFROM:+0000
TZOFFSETTO:+0000
TZNAME:UTC
DTSTART:20230101T000000
END:STANDARD
END:VTIMEZONE
BEGIN:VEVENT
DTSTART;TZID=UTC:20241004T080000
DTEND;TZID=UTC:20241013T170000
DTSTAMP:20260420T070051
CREATED:20231207T160544Z
LAST-MODIFIED:20231207T160544Z
UID:2642-1728028800-1728838800@xmaonline.com
SUMMARY:October 4-13 - Central Asia Prayerwalking - TEAM NEEDED!
DESCRIPTION:A team is needed to prayerwalk in this beautiful Central Asian country.  Email Kate@xmaonline.com for more information.
URL:https://xmaonline.com/trip/october-4-13-central-asia-prayerwalking-team-needed/
CATEGORIES:Central Asia
ATTACH;FMTTYPE=image/jpeg:https://xmaonline.com/wp-content/uploads/2023/03/imb-photos-asap017-small-1.jpg
END:VEVENT
END:VCALENDAR