BEGIN:VCALENDAR
VERSION:2.0
PRODID:-//Extreme Missionary Adventures - ECPv6.15.20//NONSGML v1.0//EN
CALSCALE:GREGORIAN
METHOD:PUBLISH
X-ORIGINAL-URL:https://xmaonline.com
X-WR-CALDESC:Events for Extreme Missionary Adventures
REFRESH-INTERVAL;VALUE=DURATION:PT1H
X-Robots-Tag:noindex
X-PUBLISHED-TTL:PT1H
BEGIN:VTIMEZONE
TZID:UTC
BEGIN:STANDARD
TZOFFSETFROM:+0000
TZOFFSETTO:+0000
TZNAME:UTC
DTSTART:20220101T000000
END:STANDARD
END:VTIMEZONE
BEGIN:VEVENT
DTSTART;VALUE=DATE:20230624
DTEND;VALUE=DATE:20230702
DTSTAMP:20260421T104415
CREATED:20230213T183947Z
LAST-MODIFIED:20230213T183947Z
UID:2110-1687564800-1688255999@xmaonline.com
SUMMARY:June 24-July 1 - Nicaragua - Team Needed!
DESCRIPTION:Terry Parks is looking for a group to travel to Nicaragua June 24-July 1. Opportunities for ministry include medical\, eyeglass distribution\, evangelism\, and much more. Email tparks@xmaonline.com for more information!
URL:https://xmaonline.com/trip/june-24-july-1-nicaragua-team-needed/
CATEGORIES:Central America,Nicaragua
ATTACH;FMTTYPE=image/jpeg:https://xmaonline.com/wp-content/uploads/2023/02/tp2-scaled.jpg
END:VEVENT
END:VCALENDAR