BEGIN:VCALENDAR
VERSION:2.0
PRODID:-//Extreme Missionary Adventures - ECPv6.15.20//NONSGML v1.0//EN
CALSCALE:GREGORIAN
METHOD:PUBLISH
X-WR-CALNAME:Extreme Missionary Adventures
X-ORIGINAL-URL:https://xmaonline.com
X-WR-CALDESC:Events for Extreme Missionary Adventures
REFRESH-INTERVAL;VALUE=DURATION:PT1H
X-Robots-Tag:noindex
X-PUBLISHED-TTL:PT1H
BEGIN:VTIMEZONE
TZID:UTC
BEGIN:STANDARD
TZOFFSETFROM:+0000
TZOFFSETTO:+0000
TZNAME:UTC
DTSTART:20230101T000000
END:STANDARD
END:VTIMEZONE
BEGIN:VEVENT
DTSTART;VALUE=DATE:20240203
DTEND;VALUE=DATE:20240211
DTSTAMP:20260420T221749
CREATED:20230906T155726Z
LAST-MODIFIED:20230906T155726Z
UID:2424-1706918400-1707609599@xmaonline.com
SUMMARY:February 3-10 - Nicaragua
DESCRIPTION:A group from Start Baptist Church will be working on construction projects.   This trip is chartered but limited openings may still be available.  Email Terry at tparks@xmaonline.com for more information.
URL:https://xmaonline.com/trip/february-3-10-nicaragua/
CATEGORIES:Central America,Nicaragua
ATTACH;FMTTYPE=image/jpeg:https://xmaonline.com/wp-content/uploads/2023/09/IMG_7231-scaled.jpg
END:VEVENT
END:VCALENDAR