BEGIN:VCALENDAR
VERSION:2.0
PRODID:-//Extreme Missionary Adventures - ECPv6.15.20//NONSGML v1.0//EN
CALSCALE:GREGORIAN
METHOD:PUBLISH
X-WR-CALNAME:Extreme Missionary Adventures
X-ORIGINAL-URL:https://xmaonline.com
X-WR-CALDESC:Events for Extreme Missionary Adventures
REFRESH-INTERVAL;VALUE=DURATION:PT1H
X-Robots-Tag:noindex
X-PUBLISHED-TTL:PT1H
BEGIN:VTIMEZONE
TZID:UTC
BEGIN:STANDARD
TZOFFSETFROM:+0000
TZOFFSETTO:+0000
TZNAME:UTC
DTSTART:20240101T000000
END:STANDARD
END:VTIMEZONE
BEGIN:VEVENT
DTSTART;TZID=UTC:20250208T080000
DTEND;TZID=UTC:20250215T170000
DTSTAMP:20260420T021238
CREATED:20240920T145944Z
LAST-MODIFIED:20250123T184718Z
UID:2853-1739001600-1739638800@xmaonline.com
SUMMARY:February 8-15 - Nicaragua
DESCRIPTION:This trip has been chartered by Start Baptist Church.
URL:https://xmaonline.com/trip/february-8-15-nicaragua/
CATEGORIES:Central America,Nicaragua
ATTACH;FMTTYPE=image/jpeg:https://xmaonline.com/wp-content/uploads/2024/04/video-ss.jpg
END:VEVENT
END:VCALENDAR