BEGIN:VCALENDAR
VERSION:2.0
PRODID:-//Extreme Missionary Adventures - ECPv6.15.20//NONSGML v1.0//EN
CALSCALE:GREGORIAN
METHOD:PUBLISH
X-WR-CALNAME:Extreme Missionary Adventures
X-ORIGINAL-URL:https://xmaonline.com
X-WR-CALDESC:Events for Extreme Missionary Adventures
REFRESH-INTERVAL;VALUE=DURATION:PT1H
X-Robots-Tag:noindex
X-PUBLISHED-TTL:PT1H
BEGIN:VTIMEZONE
TZID:UTC
BEGIN:STANDARD
TZOFFSETFROM:+0000
TZOFFSETTO:+0000
TZNAME:UTC
DTSTART:20240101T000000
END:STANDARD
END:VTIMEZONE
BEGIN:VEVENT
DTSTART;VALUE=DATE:20251011
DTEND;VALUE=DATE:20251019
DTSTAMP:20260419T125733
CREATED:20241106T152442Z
LAST-MODIFIED:20250718T141935Z
UID:2999-1760140800-1760831999@xmaonline.com
SUMMARY:October 11-18 - Nicaragua
DESCRIPTION:This group will be working on a construction project for a Miskito church.  It has been chartered by First Baptist Church of Swartz\, Louisiana.  Other trip dates are still available.  Email Terry at tparks@xmaonline.com today for more information!
URL:https://xmaonline.com/trip/september-27-october-4-nicaragua-team-needed/
CATEGORIES:Central America,Nicaragua
ATTACH;FMTTYPE=image/jpeg:https://xmaonline.com/wp-content/uploads/2023/09/terry4-scaled.jpg
END:VEVENT
END:VCALENDAR