BEGIN:VCALENDAR
VERSION:2.0
PRODID:-//Extreme Missionary Adventures - ECPv6.15.20//NONSGML v1.0//EN
CALSCALE:GREGORIAN
METHOD:PUBLISH
X-ORIGINAL-URL:https://xmaonline.com
X-WR-CALDESC:Events for Extreme Missionary Adventures
REFRESH-INTERVAL;VALUE=DURATION:PT1H
X-Robots-Tag:noindex
X-PUBLISHED-TTL:PT1H
BEGIN:VTIMEZONE
TZID:UTC
BEGIN:STANDARD
TZOFFSETFROM:+0000
TZOFFSETTO:+0000
TZNAME:UTC
DTSTART:20220101T000000
END:STANDARD
END:VTIMEZONE
BEGIN:VEVENT
DTSTART;VALUE=DATE:20250322
DTEND;VALUE=DATE:20250330
DTSTAMP:20260422T144312
CREATED:20241106T151633Z
LAST-MODIFIED:20250123T184651Z
UID:2991-1742601600-1743292799@xmaonline.com
SUMMARY:March 22-29 - Nicaragua
DESCRIPTION:This trip has been chartered by Shoal Creek Baptist Church.
URL:https://xmaonline.com/trip/march-22-29-nicaragua/
CATEGORIES:Central America,Nicaragua
ATTACH;FMTTYPE=image/jpeg:https://xmaonline.com/wp-content/uploads/2024/05/3-scaled.jpg
END:VEVENT
BEGIN:VEVENT
DTSTART;TZID=UTC:20250208T080000
DTEND;TZID=UTC:20250215T170000
DTSTAMP:20260422T144312
CREATED:20240920T145944Z
LAST-MODIFIED:20250123T184718Z
UID:2853-1739001600-1739638800@xmaonline.com
SUMMARY:February 8-15 - Nicaragua
DESCRIPTION:This trip has been chartered by Start Baptist Church.
URL:https://xmaonline.com/trip/february-8-15-nicaragua/
CATEGORIES:Central America,Nicaragua
ATTACH;FMTTYPE=image/jpeg:https://xmaonline.com/wp-content/uploads/2024/04/video-ss.jpg
END:VEVENT
BEGIN:VEVENT
DTSTART;TZID=UTC:20250201T080000
DTEND;TZID=UTC:20250208T170000
DTSTAMP:20260422T144312
CREATED:20240920T145839Z
LAST-MODIFIED:20250123T184741Z
UID:2851-1738396800-1739034000@xmaonline.com
SUMMARY:February 1-8 - Nicaragua
DESCRIPTION:This trip has been chartered by Start Baptist Church.
URL:https://xmaonline.com/trip/february-1-8-nicaragua/
CATEGORIES:Central America,Nicaragua
ATTACH;FMTTYPE=image/jpeg:https://xmaonline.com/wp-content/uploads/2024/05/3-scaled.jpg
END:VEVENT
BEGIN:VEVENT
DTSTART;VALUE=DATE:20241123
DTEND;VALUE=DATE:20241201
DTSTAMP:20260422T144312
CREATED:20240307T153020Z
LAST-MODIFIED:20240307T153020Z
UID:2695-1732320000-1733011199@xmaonline.com
SUMMARY:November 23-30 - Nicaragua
DESCRIPTION:This trip has been chartered by Montpelier Baptist Church.  Limited openings may still be available.  Contact Terry at tparks@xmaonline.com for more information.
URL:https://xmaonline.com/trip/november-23-30-nicaragua/
CATEGORIES:Central America,Nicaragua
ATTACH;FMTTYPE=image/jpeg:https://xmaonline.com/wp-content/uploads/2023/09/tery1-scaled.jpg
END:VEVENT
BEGIN:VEVENT
DTSTART;VALUE=DATE:20241109
DTEND;VALUE=DATE:20241117
DTSTAMP:20260422T144312
CREATED:20230906T164818Z
LAST-MODIFIED:20230906T164818Z
UID:2462-1731110400-1731801599@xmaonline.com
SUMMARY:November 9-16 - Nicaragua
DESCRIPTION:This trip has been been chartered by Northeast Baptist School of West Monroe\, Louisiana.  Limited openings may still be available.  Contact Terry at tparks@xmaonline.com for more information.
URL:https://xmaonline.com/trip/november-9-16-nicaragua/
CATEGORIES:Central America,Nicaragua
ATTACH;FMTTYPE=image/jpeg:https://xmaonline.com/wp-content/uploads/2023/09/terry2-scaled.jpg
END:VEVENT
BEGIN:VEVENT
DTSTART;VALUE=DATE:20241012
DTEND;VALUE=DATE:20241020
DTSTAMP:20260422T144312
CREATED:20230906T164552Z
LAST-MODIFIED:20230906T164552Z
UID:2460-1728691200-1729382399@xmaonline.com
SUMMARY:October 12-19 - Nicaragua - TEAM NEEDED!
DESCRIPTION:A team is needed for this trip!  Contact Terry at tparks@xmaonline.com for more information.
URL:https://xmaonline.com/trip/october-12-19-nicaragua-team-needed/
CATEGORIES:Central America,Nicaragua
ATTACH;FMTTYPE=image/jpeg:https://xmaonline.com/wp-content/uploads/2023/09/terry4-scaled.jpg
END:VEVENT
BEGIN:VEVENT
DTSTART;VALUE=DATE:20240921
DTEND;VALUE=DATE:20240929
DTSTAMP:20260422T144312
CREATED:20230906T164444Z
LAST-MODIFIED:20240307T154305Z
UID:2458-1726876800-1727567999@xmaonline.com
SUMMARY:September 21-28 - Nicaragua
DESCRIPTION:This trip has been chartered.  Limited openings may still be available. Contact Terry at tparks@xmaonline.com for more information.
URL:https://xmaonline.com/trip/september-21-28-nicaragua-team-needed/
CATEGORIES:Central America,Nicaragua
ATTACH;FMTTYPE=image/jpeg:https://xmaonline.com/wp-content/uploads/2023/09/terry3-scaled.jpg
END:VEVENT
BEGIN:VEVENT
DTSTART;VALUE=DATE:20240907
DTEND;VALUE=DATE:20240915
DTSTAMP:20260422T144312
CREATED:20230906T164223Z
LAST-MODIFIED:20240307T153511Z
UID:2454-1725667200-1726358399@xmaonline.com
SUMMARY:Sept 7-14 - Nicaragua
DESCRIPTION:This trip has been chartered.  Limited openings may still be available.  Contact Terry at tparks@xmaonline.com for more information.
URL:https://xmaonline.com/trip/august-24-31-nicaragua-team-needed/
CATEGORIES:Central America,Nicaragua
ATTACH;FMTTYPE=image/jpeg:https://xmaonline.com/wp-content/uploads/2023/09/IMG_6891-scaled.jpg
END:VEVENT
BEGIN:VEVENT
DTSTART;VALUE=DATE:20240831
DTEND;VALUE=DATE:20240908
DTSTAMP:20260422T144312
CREATED:20230906T164337Z
LAST-MODIFIED:20240307T153545Z
UID:2456-1725062400-1725753599@xmaonline.com
SUMMARY:August 31-September 7 - Nicaragua
DESCRIPTION:This trip has been chartered.  Limited openings may still be available.  Contact Terry at tparks@xmaonline.com for more information.
URL:https://xmaonline.com/trip/august-31-september-7-nicaragua-team-needed/
CATEGORIES:Central America,Nicaragua
ATTACH;FMTTYPE=image/jpeg:https://xmaonline.com/wp-content/uploads/2023/09/tery1-scaled.jpg
END:VEVENT
BEGIN:VEVENT
DTSTART;VALUE=DATE:20240810
DTEND;VALUE=DATE:20240818
DTSTAMP:20260422T144312
CREATED:20240307T153755Z
LAST-MODIFIED:20240307T153755Z
UID:2702-1723248000-1723939199@xmaonline.com
SUMMARY:August 10-17 - Nicaragua - TEAM NEEDED!
DESCRIPTION:A team is needed for these dates!  Contact Terry at tparks@xmaonline.com for more information.
URL:https://xmaonline.com/trip/august-10-17-nicaragua-team-needed/
CATEGORIES:Central America,Nicaragua
ATTACH;FMTTYPE=image/jpeg:https://xmaonline.com/wp-content/uploads/2022/11/terry2-scaled.jpg
END:VEVENT
BEGIN:VEVENT
DTSTART;VALUE=DATE:20240720
DTEND;VALUE=DATE:20240728
DTSTAMP:20260422T144312
CREATED:20230906T163613Z
LAST-MODIFIED:20230906T163613Z
UID:2448-1721433600-1722124799@xmaonline.com
SUMMARY:July 20-27 - Nicaragua
DESCRIPTION:This trip has been chartered by Ridgecrest Baptist Church.  Limited openings may still be available.  Contact Terry at tparks@xmaonline.com for more information.
URL:https://xmaonline.com/trip/july-20-27-nicaragua/
CATEGORIES:Central America,Nicaragua
ATTACH;FMTTYPE=image/jpeg:https://xmaonline.com/wp-content/uploads/2023/09/terry2-scaled.jpg
END:VEVENT
BEGIN:VEVENT
DTSTART;VALUE=DATE:20240713
DTEND;VALUE=DATE:20240721
DTSTAMP:20260422T144312
CREATED:20230906T162057Z
LAST-MODIFIED:20230906T162057Z
UID:2445-1720828800-1721519999@xmaonline.com
SUMMARY:July 13-20 - Nicaragua
DESCRIPTION:This trip has been chartered by First Baptist Church of Andrews\, South Carolina.  Limited openings may still be available.  Contact Terry at tparks@xmaonline.com for more information.
URL:https://xmaonline.com/trip/july-13-20-nicaragua/
CATEGORIES:Central America,Nicaragua
ATTACH;FMTTYPE=image/jpeg:https://xmaonline.com/wp-content/uploads/2023/09/terry4-scaled.jpg
END:VEVENT
BEGIN:VEVENT
DTSTART;VALUE=DATE:20240629
DTEND;VALUE=DATE:20240707
DTSTAMP:20260422T144312
CREATED:20240307T153321Z
LAST-MODIFIED:20240319T131737Z
UID:2697-1719619200-1720310399@xmaonline.com
SUMMARY:June 29-July 6 - Nicaragua - TEAM NEEDED!
DESCRIPTION:This trip has not yet been chartered!  Contact Terry at tparks@xmaonline.com for more information.
URL:https://xmaonline.com/trip/june-29-july-6-nicaragua/
CATEGORIES:Central America,Nicaragua
ATTACH;FMTTYPE=image/jpeg:https://xmaonline.com/wp-content/uploads/2023/09/IMG_7452-scaled.jpg
END:VEVENT
BEGIN:VEVENT
DTSTART;VALUE=DATE:20240621
DTEND;VALUE=DATE:20240630
DTSTAMP:20260422T144312
CREATED:20230906T161838Z
LAST-MODIFIED:20230906T161838Z
UID:2442-1718928000-1719705599@xmaonline.com
SUMMARY:June 21-29 - Nicaragua
DESCRIPTION:This trip has been chartered by Istrouma Baptist Church.  Limited openings may still be available.  Contact Terry at tparks@xmaonline.com for more information.
URL:https://xmaonline.com/trip/june-21-29-nicaragua/
CATEGORIES:Central America,Nicaragua
ATTACH;FMTTYPE=image/jpeg:https://xmaonline.com/wp-content/uploads/2023/09/terry3-scaled.jpg
END:VEVENT
BEGIN:VEVENT
DTSTART;VALUE=DATE:20240615
DTEND;VALUE=DATE:20240623
DTSTAMP:20260422T144312
CREATED:20240307T154135Z
LAST-MODIFIED:20240307T154135Z
UID:2706-1718409600-1719100799@xmaonline.com
SUMMARY:June 15-22 - Nicaragua - TEAM NEEDED!
DESCRIPTION:A team is needed for these trip dates! Contact Terry at tparks@xmaonline.com for more information.
URL:https://xmaonline.com/trip/june-15-22-nicaragua-team-needed/
CATEGORIES:Central America,Nicaragua
ATTACH;FMTTYPE=image/jpeg:https://xmaonline.com/wp-content/uploads/2023/09/terry4-scaled.jpg
END:VEVENT
BEGIN:VEVENT
DTSTART;VALUE=DATE:20240518
DTEND;VALUE=DATE:20240526
DTSTAMP:20260422T144312
CREATED:20230906T161604Z
LAST-MODIFIED:20240307T153954Z
UID:2439-1715990400-1716681599@xmaonline.com
SUMMARY:May 18-25 - Nicaragua - TEAM NEEDED!
DESCRIPTION:This trip has been chartered by First Baptist Church of Swartz\, LA.  Limited openings may still be available.  Contact Terry at tparks@xmaonline.com for more information.
URL:https://xmaonline.com/trip/may-18-25-nicaragua-team-needed/
CATEGORIES:Central America,Nicaragua
ATTACH;FMTTYPE=image/jpeg:https://xmaonline.com/wp-content/uploads/2023/09/tery1-scaled.jpg
END:VEVENT
BEGIN:VEVENT
DTSTART;VALUE=DATE:20240406
DTEND;VALUE=DATE:20240414
DTSTAMP:20260422T144312
CREATED:20230906T161331Z
LAST-MODIFIED:20240307T153859Z
UID:2436-1712361600-1713052799@xmaonline.com
SUMMARY:April 6-13 - Nicaragua
DESCRIPTION:This trip has been chartered.  Limited openings may still be available.  Contact Terry at tparks@xmaonline.com for more information.
URL:https://xmaonline.com/trip/april-6-13-nicaragua-team-needed/
CATEGORIES:Central America,Nicaragua
ATTACH;FMTTYPE=image/jpeg:https://xmaonline.com/wp-content/uploads/2023/09/IMG_7452-scaled.jpg
END:VEVENT
BEGIN:VEVENT
DTSTART;VALUE=DATE:20240210
DTEND;VALUE=DATE:20240218
DTSTAMP:20260422T144312
CREATED:20230906T161006Z
LAST-MODIFIED:20231207T163733Z
UID:2434-1707523200-1708214399@xmaonline.com
SUMMARY:February 10-17 - Nicaragua
DESCRIPTION:This trip has been chartered by Start Baptist Church and will be focusing on medical care.  Limited openings may still be available.  Email Terry at tparks@xmaonline.com for more information.
URL:https://xmaonline.com/trip/february-3-10-nicaragua-2/
CATEGORIES:Central America,Nicaragua
ATTACH;FMTTYPE=image/jpeg:https://xmaonline.com/wp-content/uploads/2022/10/image-asset.jpeg
END:VEVENT
BEGIN:VEVENT
DTSTART;VALUE=DATE:20240203
DTEND;VALUE=DATE:20240211
DTSTAMP:20260422T144312
CREATED:20230906T155726Z
LAST-MODIFIED:20230906T155726Z
UID:2424-1706918400-1707609599@xmaonline.com
SUMMARY:February 3-10 - Nicaragua
DESCRIPTION:A group from Start Baptist Church will be working on construction projects.   This trip is chartered but limited openings may still be available.  Email Terry at tparks@xmaonline.com for more information.
URL:https://xmaonline.com/trip/february-3-10-nicaragua/
CATEGORIES:Central America,Nicaragua
ATTACH;FMTTYPE=image/jpeg:https://xmaonline.com/wp-content/uploads/2023/09/IMG_7231-scaled.jpg
END:VEVENT
BEGIN:VEVENT
DTSTART;VALUE=DATE:20231202
DTEND;VALUE=DATE:20231210
DTSTAMP:20260422T144312
CREATED:20230906T160531Z
LAST-MODIFIED:20230906T160531Z
UID:2431-1701475200-1702166399@xmaonline.com
SUMMARY:December 2-9 - Nicaragua - TEAM NEEDED!
DESCRIPTION:A team is needed for this trip!  Contact Terry at tparks@xmaonline.com for more information.
URL:https://xmaonline.com/trip/december-2-9-nicaragua-team-needed/
CATEGORIES:Central America,Nicaragua
ATTACH;FMTTYPE=image/jpeg:https://xmaonline.com/wp-content/uploads/2023/09/IMG_6891-scaled.jpg
END:VEVENT
BEGIN:VEVENT
DTSTART;VALUE=DATE:20231007
DTEND;VALUE=DATE:20231015
DTSTAMP:20260422T144312
CREATED:20230228T143105Z
LAST-MODIFIED:20230906T160247Z
UID:2140-1696636800-1697327999@xmaonline.com
SUMMARY:October 7-14 - Nicaragua - TEAM NEEDED!
DESCRIPTION:A team is needed for this trip!  Contact Terry at tparks@xmaonline.com for more information.
URL:https://xmaonline.com/trip/october-3-14-nicaragua-full/
CATEGORIES:Central America,Nicaragua
ATTACH;FMTTYPE=image/jpeg:https://xmaonline.com/wp-content/uploads/2022/11/IMG_6829.jpg
END:VEVENT
BEGIN:VEVENT
DTSTART;VALUE=DATE:20230930
DTEND;VALUE=DATE:20231008
DTSTAMP:20260422T144312
CREATED:20230906T160211Z
LAST-MODIFIED:20230906T160211Z
UID:2429-1696032000-1696723199@xmaonline.com
SUMMARY:September 30-October 7 - Nicaragua - TEAM NEEDED!
DESCRIPTION:A team is needed for this trip!  Contact Terry at tparks@xmaonline.com for more information.
URL:https://xmaonline.com/trip/september-30-october-7-nicaragua-team-needed/
CATEGORIES:Central America,Nicaragua
ATTACH;FMTTYPE=image/jpeg:https://xmaonline.com/wp-content/uploads/2023/09/IMG_7231-scaled.jpg
END:VEVENT
BEGIN:VEVENT
DTSTART;VALUE=DATE:20230901
DTEND;VALUE=DATE:20230910
DTSTAMP:20260422T144312
CREATED:20221111T193125Z
LAST-MODIFIED:20221111T193125Z
UID:1881-1693526400-1694303999@xmaonline.com
SUMMARY:September 1-9 - Nicaragua
DESCRIPTION:This trip date has been chartered but some openings may still be available.  Email tparks@xmaonline.com for more information.
URL:https://xmaonline.com/trip/september-1-9-nicaragua/
CATEGORIES:Central America,Nicaragua
ATTACH;FMTTYPE=image/jpeg:https://xmaonline.com/wp-content/uploads/2022/11/IMG_6829.jpg
END:VEVENT
BEGIN:VEVENT
DTSTART;VALUE=DATE:20230805
DTEND;VALUE=DATE:20230813
DTSTAMP:20260422T144312
CREATED:20221111T192754Z
LAST-MODIFIED:20230228T142421Z
UID:1878-1691193600-1691884799@xmaonline.com
SUMMARY:August 5-12 - Nicaragua
DESCRIPTION:This trip is sponsored by First Baptist Church of Pinehurst\, however\, some openings may still be available.  Email tparks@xmaonline.com for more information.
URL:https://xmaonline.com/trip/july-1-8-nicaragua/
CATEGORIES:Central America,Nicaragua
ATTACH;FMTTYPE=image/jpeg:https://xmaonline.com/wp-content/uploads/2022/11/terry3-scaled.jpg
END:VEVENT
BEGIN:VEVENT
DTSTART;VALUE=DATE:20230708
DTEND;VALUE=DATE:20230716
DTSTAMP:20260422T144312
CREATED:20221205T193045Z
LAST-MODIFIED:20221205T193045Z
UID:1934-1688774400-1689465599@xmaonline.com
SUMMARY:July 8-15 Nicaragua
DESCRIPTION:This trip has been chartered by First Baptist Church of Andrews\, South Carolina\, however\, limited openings may still be available.  Contact Terry at tparks@xmaonline.com for more information.
URL:https://xmaonline.com/trip/july-8-15-nicaragua/
CATEGORIES:Central America,Nicaragua
ATTACH;FMTTYPE=image/jpeg:https://xmaonline.com/wp-content/uploads/2022/11/terry4-scaled.jpg
END:VEVENT
BEGIN:VEVENT
DTSTART;VALUE=DATE:20230701
DTEND;VALUE=DATE:20230709
DTSTAMP:20260422T144312
CREATED:20230228T142731Z
LAST-MODIFIED:20230228T142731Z
UID:2137-1688169600-1688860799@xmaonline.com
SUMMARY:July 1-8 - Nicaragua - Team Needed!
DESCRIPTION:This trip date is open!  Contact Terry at tparks@xmaonline.com for more information.
URL:https://xmaonline.com/trip/july-1-8-nicaragua-team-needed/
CATEGORIES:Central America,Nicaragua
ATTACH;FMTTYPE=image/jpeg:https://xmaonline.com/wp-content/uploads/2023/02/tp2-1-scaled.jpg
END:VEVENT
BEGIN:VEVENT
DTSTART;VALUE=DATE:20230624
DTEND;VALUE=DATE:20230702
DTSTAMP:20260422T144312
CREATED:20230213T183947Z
LAST-MODIFIED:20230213T183947Z
UID:2110-1687564800-1688255999@xmaonline.com
SUMMARY:June 24-July 1 - Nicaragua - Team Needed!
DESCRIPTION:Terry Parks is looking for a group to travel to Nicaragua June 24-July 1. Opportunities for ministry include medical\, eyeglass distribution\, evangelism\, and much more. Email tparks@xmaonline.com for more information!
URL:https://xmaonline.com/trip/june-24-july-1-nicaragua-team-needed/
CATEGORIES:Central America,Nicaragua
ATTACH;FMTTYPE=image/jpeg:https://xmaonline.com/wp-content/uploads/2023/02/tp2-scaled.jpg
END:VEVENT
BEGIN:VEVENT
DTSTART;VALUE=DATE:20230617
DTEND;VALUE=DATE:20230625
DTSTAMP:20260422T144312
CREATED:20221111T192505Z
LAST-MODIFIED:20221213T152336Z
UID:1875-1686960000-1687651199@xmaonline.com
SUMMARY:June 17-24 - Nicaragua
DESCRIPTION:This trip is sponsored by Montpelier Baptist Church\, however\, some openings may still be available.  Email tparks@xmaonline.com for more information.
URL:https://xmaonline.com/trip/june-3-10-nicaragua/
CATEGORIES:Central America,Nicaragua
ATTACH;FMTTYPE=image/jpeg:https://xmaonline.com/wp-content/uploads/2022/11/terry2-scaled.jpg
END:VEVENT
BEGIN:VEVENT
DTSTART;VALUE=DATE:20230421
DTEND;VALUE=DATE:20230430
DTSTAMP:20260422T144312
CREATED:20221111T191837Z
LAST-MODIFIED:20230206T161623Z
UID:1869-1682035200-1682812799@xmaonline.com
SUMMARY:April 21-29 - Nicaragua
DESCRIPTION:This trip is chartered\, however\, some openings may still be available.  Email tparks@xmaonline.com for more information.
URL:https://xmaonline.com/trip/april-22-29-nicaragua/
CATEGORIES:Central America,Nicaragua
ATTACH;FMTTYPE=image/jpeg:https://xmaonline.com/wp-content/uploads/2022/11/tery1-scaled.jpg
END:VEVENT
BEGIN:VEVENT
DTSTART;VALUE=DATE:20230128
DTEND;VALUE=DATE:20230205
DTSTAMP:20260422T144312
CREATED:20221111T191538Z
LAST-MODIFIED:20221111T191538Z
UID:1866-1674864000-1675555199@xmaonline.com
SUMMARY:January 28-February 4 Nicaragua
DESCRIPTION:This trip is sponsored by Start Baptist Church\, however\, some openings may still be available.  Email tparks@xmaonline.com for more information. \n 
URL:https://xmaonline.com/trip/january-28-february-4-nicaragua/
CATEGORIES:Central America,Nicaragua
ATTACH;FMTTYPE=image/jpeg:https://xmaonline.com/wp-content/uploads/2022/11/terry4-scaled.jpg
END:VEVENT
END:VCALENDAR