BEGIN:VCALENDAR
VERSION:2.0
PRODID:-//Extreme Missionary Adventures - ECPv6.15.20//NONSGML v1.0//EN
CALSCALE:GREGORIAN
METHOD:PUBLISH
X-WR-CALNAME:Extreme Missionary Adventures
X-ORIGINAL-URL:https://xmaonline.com
X-WR-CALDESC:Events for Extreme Missionary Adventures
REFRESH-INTERVAL;VALUE=DURATION:PT1H
X-Robots-Tag:noindex
X-PUBLISHED-TTL:PT1H
BEGIN:VTIMEZONE
TZID:UTC
BEGIN:STANDARD
TZOFFSETFROM:+0000
TZOFFSETTO:+0000
TZNAME:UTC
DTSTART:20240101T000000
END:STANDARD
END:VTIMEZONE
BEGIN:VEVENT
DTSTART;VALUE=DATE:20250830
DTEND;VALUE=DATE:20250907
DTSTAMP:20260420T140037
CREATED:20241106T152234Z
LAST-MODIFIED:20250123T184350Z
UID:2997-1756512000-1757203199@xmaonline.com
SUMMARY:August 30-September 6 - Nicaragua
DESCRIPTION:This trip has been chartered by Shoal Creek Baptist Church.
URL:https://xmaonline.com/trip/august-30-september-6-nicaragua/
CATEGORIES:Central America,Nicaragua
ATTACH;FMTTYPE=image/jpeg:https://xmaonline.com/wp-content/uploads/2023/09/terry2-scaled.jpg
END:VEVENT
BEGIN:VEVENT
DTSTART;VALUE=DATE:20250913
DTEND;VALUE=DATE:20250919
DTSTAMP:20260420T140037
CREATED:20250718T133618Z
LAST-MODIFIED:20250718T133828Z
UID:3211-1757721600-1758239999@xmaonline.com
SUMMARY:September 13-18 - Nicaragua
DESCRIPTION:This trip has been chartered but limited openings may still be available.  Email tparks@xmaonline.com for more information.
URL:https://xmaonline.com/trip/september-13-18-nicaragua/
CATEGORIES:Central America,Nicaragua
ATTACH;FMTTYPE=image/jpeg:https://xmaonline.com/wp-content/uploads/2022/11/IMG_6829.jpg
END:VEVENT
BEGIN:VEVENT
DTSTART;VALUE=DATE:20251011
DTEND;VALUE=DATE:20251019
DTSTAMP:20260420T140037
CREATED:20241106T152442Z
LAST-MODIFIED:20250718T141935Z
UID:2999-1760140800-1760831999@xmaonline.com
SUMMARY:October 11-18 - Nicaragua
DESCRIPTION:This group will be working on a construction project for a Miskito church.  It has been chartered by First Baptist Church of Swartz\, Louisiana.  Other trip dates are still available.  Email Terry at tparks@xmaonline.com today for more information!
URL:https://xmaonline.com/trip/september-27-october-4-nicaragua-team-needed/
CATEGORIES:Central America,Nicaragua
ATTACH;FMTTYPE=image/jpeg:https://xmaonline.com/wp-content/uploads/2023/09/terry4-scaled.jpg
END:VEVENT
BEGIN:VEVENT
DTSTART;VALUE=DATE:20251018
DTEND;VALUE=DATE:20251026
DTSTAMP:20260420T140037
CREATED:20250318T145635Z
LAST-MODIFIED:20250718T141653Z
UID:3073-1760745600-1761436799@xmaonline.com
SUMMARY:October 18-25 - Nicaragua - Exploratory
DESCRIPTION:Terry and Denise Parks will be exploring new ministry opportunities in Nicaragua.  No team is needed for these dates\, but there are still openings for other dates.  Email tparks@xmaonline.com for more information.
URL:https://xmaonline.com/trip/september-6-13-nicaragua-exploratory/
CATEGORIES:Central America,Nicaragua
ATTACH;FMTTYPE=image/jpeg:https://xmaonline.com/wp-content/uploads/2024/10/IMG_1485.jpg
END:VEVENT
BEGIN:VEVENT
DTSTART;VALUE=DATE:20251101
DTEND;VALUE=DATE:20251109
DTSTAMP:20260420T140037
CREATED:20241106T152606Z
LAST-MODIFIED:20241106T152606Z
UID:3001-1761955200-1762646399@xmaonline.com
SUMMARY:November 1-8 - Nicaragua - TEAM NEEDED!
DESCRIPTION:This trip is open.  Email Terry at tparks@xmaonline.com today to reserve your spot!
URL:https://xmaonline.com/trip/november-1-8-nicaragua-team-needed/
CATEGORIES:Central America,Nicaragua
ATTACH;FMTTYPE=image/jpeg:https://xmaonline.com/wp-content/uploads/2023/09/tery1-scaled.jpg
END:VEVENT
BEGIN:VEVENT
DTSTART;VALUE=DATE:20260124
DTEND;VALUE=DATE:20260201
DTSTAMP:20260420T140037
CREATED:20250714T135237Z
LAST-MODIFIED:20250714T135640Z
UID:3194-1769212800-1769903999@xmaonline.com
SUMMARY:January 24-31 - Nicaragua - Construction
DESCRIPTION:This team will work on a church construction project.  This date has been chartered by Start Baptist Church of Start\, LA but limited openings may still be available.  Email Terry at tparks@xmaonline.com for more information.
URL:https://xmaonline.com/trip/january-24-31-nicaragua/
CATEGORIES:Central America,Nicaragua
ATTACH;FMTTYPE=image/jpeg:https://xmaonline.com/wp-content/uploads/2023/09/IMG_7231-scaled.jpg
END:VEVENT
BEGIN:VEVENT
DTSTART;VALUE=DATE:20260131
DTEND;VALUE=DATE:20260208
DTSTAMP:20260420T140037
CREATED:20250714T135612Z
LAST-MODIFIED:20250714T135612Z
UID:3196-1769817600-1770508799@xmaonline.com
SUMMARY:Jan 31-Feb 7 - Nicaragua - Medical
DESCRIPTION:This team will work on medical clinics.  This date has been chartered by Start Baptist Church of Start\, LA but limited openings may still be available.  Email Terry at tparks@xmaonline.com for more information.
URL:https://xmaonline.com/trip/jan-31-feb-7-nicaragua-medical/
CATEGORIES:Central America,Nicaragua
ATTACH;FMTTYPE=image/jpeg:https://xmaonline.com/wp-content/uploads/2022/10/image-asset.jpeg
END:VEVENT
BEGIN:VEVENT
DTSTART;VALUE=DATE:20260301
DTEND;VALUE=DATE:20260302
DTSTAMP:20260420T140037
CREATED:20250821T163929Z
LAST-MODIFIED:20250821T163929Z
UID:3253-1772323200-1772409599@xmaonline.com
SUMMARY:March (Exact Dates TBD) - Nicaragua
DESCRIPTION:The exact dates for this March trip have not yet been determined.  This trip has been chartered but limited openings may still be available.  Email Terry at tparks@xmaonline.com for more information.
URL:https://xmaonline.com/trip/march-exact-dates-tbd-nicaragua/
CATEGORIES:Central America,Nicaragua
ATTACH;FMTTYPE=image/jpeg:https://xmaonline.com/wp-content/uploads/2024/10/IMG_1485.jpg
END:VEVENT
BEGIN:VEVENT
DTSTART;VALUE=DATE:20260321
DTEND;VALUE=DATE:20260329
DTSTAMP:20260420T140037
CREATED:20250821T164351Z
LAST-MODIFIED:20250821T164351Z
UID:3255-1774051200-1774742399@xmaonline.com
SUMMARY:March 21-28 - Nicaragua
DESCRIPTION:This trip has been chartered but limited openings may still be available.  Email Terry at tparks@xmaonline.com for more information.
URL:https://xmaonline.com/trip/march-21-28-nicaragua/
CATEGORIES:Central America,Nicaragua
ATTACH;FMTTYPE=image/jpeg:https://xmaonline.com/wp-content/uploads/2024/05/3-scaled.jpg
END:VEVENT
BEGIN:VEVENT
DTSTART;VALUE=DATE:20260509
DTEND;VALUE=DATE:20260517
DTSTAMP:20260420T140037
CREATED:20250821T164645Z
LAST-MODIFIED:20250821T164645Z
UID:3257-1778284800-1778975999@xmaonline.com
SUMMARY:May 9-16 - Nicaragua - TEAM NEEDED!
DESCRIPTION:We need you to go on this trip! Email Terry at tparks@xmaonline.com for more information and to reserve your spot.
URL:https://xmaonline.com/trip/may-9-16-nicaragua-team-needed/
CATEGORIES:Central America,Nicaragua
ATTACH;FMTTYPE=image/jpeg:https://xmaonline.com/wp-content/uploads/2024/04/video-ss.jpg
END:VEVENT
BEGIN:VEVENT
DTSTART;VALUE=DATE:20260613
DTEND;VALUE=DATE:20260621
DTSTAMP:20260420T140037
CREATED:20250821T165435Z
LAST-MODIFIED:20250821T165435Z
UID:3259-1781308800-1781999999@xmaonline.com
SUMMARY:June 13-20 - Nicaragua - TEAM NEEDED!
DESCRIPTION:We need you to go on this trip!  Contact Terry at tparks@xmaonline.com for more information and to reserve your spot.
URL:https://xmaonline.com/trip/june-13-20-nicaragua-team-needed/
CATEGORIES:Central America,Nicaragua
ATTACH;FMTTYPE=image/jpeg:https://xmaonline.com/wp-content/uploads/2023/09/TP2.jpg
END:VEVENT
BEGIN:VEVENT
DTSTART;VALUE=DATE:20260620
DTEND;VALUE=DATE:20260628
DTSTAMP:20260420T140037
CREATED:20250821T165751Z
LAST-MODIFIED:20250821T165751Z
UID:3261-1781913600-1782604799@xmaonline.com
SUMMARY:June 20-27 - Nicaragua
DESCRIPTION:This trip has already been chartered but limited openings may still be available.  Contact Terry at tparks@xmaonline.com for more information.
URL:https://xmaonline.com/trip/june-20-27-nicaragua/
CATEGORIES:Central America,Nicaragua
ATTACH;FMTTYPE=image/jpeg:https://xmaonline.com/wp-content/uploads/2023/09/terry2-scaled.jpg
END:VEVENT
BEGIN:VEVENT
DTSTART;VALUE=DATE:20260801
DTEND;VALUE=DATE:20260809
DTSTAMP:20260420T140037
CREATED:20250821T170229Z
LAST-MODIFIED:20250825T145528Z
UID:3263-1785542400-1786233599@xmaonline.com
SUMMARY:August 1-8 - Nicaragua
DESCRIPTION:This trip has already been chartered but limited openings may still be available.  Email Terry at tparks@xmaonline.com for more information.
URL:https://xmaonline.com/trip/july-25-august-1-nicaragua/
CATEGORIES:Central America,Nicaragua
ATTACH;FMTTYPE=image/jpeg:https://xmaonline.com/wp-content/uploads/2023/09/terry4-scaled.jpg
END:VEVENT
BEGIN:VEVENT
DTSTART;VALUE=DATE:20260821
DTEND;VALUE=DATE:20260830
DTSTAMP:20260420T140037
CREATED:20250821T170524Z
LAST-MODIFIED:20250821T170524Z
UID:3265-1787270400-1788047999@xmaonline.com
SUMMARY:August 21-29 - Nicaragua
DESCRIPTION:This trip has already been chartered but limited openings may still be available.  Email Terry at tparks@xmaonline.com for more information.
URL:https://xmaonline.com/trip/august-21-29-nicaragua/
CATEGORIES:Central America,Nicaragua
ATTACH;FMTTYPE=image/jpeg:https://xmaonline.com/wp-content/uploads/2023/09/tery1-scaled.jpg
END:VEVENT
BEGIN:VEVENT
DTSTART;VALUE=DATE:20261010
DTEND;VALUE=DATE:20261018
DTSTAMP:20260420T140037
CREATED:20250821T170809Z
LAST-MODIFIED:20250821T170809Z
UID:3267-1791590400-1792281599@xmaonline.com
SUMMARY:October 10-17 - Nicaragua
DESCRIPTION:This trip has already been chartered but limited openings may still be available.  Email Terry at tparks@xmaonline.com for more information.
URL:https://xmaonline.com/trip/october-10-17-nicaragua/
CATEGORIES:Central America,Nicaragua
ATTACH;FMTTYPE=image/jpeg:https://xmaonline.com/wp-content/uploads/2023/09/IMG_6891-scaled.jpg
END:VEVENT
BEGIN:VEVENT
DTSTART;VALUE=DATE:20261031
DTEND;VALUE=DATE:20261108
DTSTAMP:20260420T140037
CREATED:20250821T171214Z
LAST-MODIFIED:20250821T171215Z
UID:3269-1793404800-1794095999@xmaonline.com
SUMMARY:Oct 31-Nov 7 - Nicaragua
DESCRIPTION:This team will work with local pastors.  Contact Terry at tparks@xmaonline.com for more information.
URL:https://xmaonline.com/trip/oct-31-nov-7-nicaragua/
CATEGORIES:Central America,Nicaragua
ATTACH;FMTTYPE=image/jpeg:https://xmaonline.com/wp-content/uploads/2023/09/IMG_7231-scaled.jpg
END:VEVENT
BEGIN:VEVENT
DTSTART;VALUE=DATE:20261107
DTEND;VALUE=DATE:20261115
DTSTAMP:20260420T140037
CREATED:20250825T171721Z
LAST-MODIFIED:20250825T171721Z
UID:3272-1794009600-1794700799@xmaonline.com
SUMMARY:November 7-14 - Nicaragua
DESCRIPTION:This trip has been chartered by First Baptist Church of Andrews\, South Carolina but limited openings may still be available.  For more information\, email Terry at tparks@xmaonline.com.
URL:https://xmaonline.com/trip/november-7-14-nicaragua/
CATEGORIES:Central America,Nicaragua
ATTACH;FMTTYPE=image/jpeg:https://xmaonline.com/wp-content/uploads/2024/10/IMG_1485.jpg
END:VEVENT
END:VCALENDAR